BEGIN:VCALENDAR
VERSION:2.0
PRODID:-//Zebrans Vänner - ECPv6.15.20//NONSGML v1.0//EN
CALSCALE:GREGORIAN
METHOD:PUBLISH
X-WR-CALNAME:Zebrans Vänner
X-ORIGINAL-URL:https://www.zebransvanner.se
X-WR-CALDESC:Händelser för Zebrans Vänner
REFRESH-INTERVAL;VALUE=DURATION:PT1H
X-Robots-Tag:noindex
X-PUBLISHED-TTL:PT1H
BEGIN:VTIMEZONE
TZID:Europe/Stockholm
BEGIN:DAYLIGHT
TZOFFSETFROM:+0100
TZOFFSETTO:+0200
TZNAME:CEST
DTSTART:20230326T010000
END:DAYLIGHT
BEGIN:STANDARD
TZOFFSETFROM:+0200
TZOFFSETTO:+0100
TZNAME:CET
DTSTART:20231029T010000
END:STANDARD
BEGIN:DAYLIGHT
TZOFFSETFROM:+0100
TZOFFSETTO:+0200
TZNAME:CEST
DTSTART:20240331T010000
END:DAYLIGHT
BEGIN:STANDARD
TZOFFSETFROM:+0200
TZOFFSETTO:+0100
TZNAME:CET
DTSTART:20241027T010000
END:STANDARD
BEGIN:DAYLIGHT
TZOFFSETFROM:+0100
TZOFFSETTO:+0200
TZNAME:CEST
DTSTART:20250330T010000
END:DAYLIGHT
BEGIN:STANDARD
TZOFFSETFROM:+0200
TZOFFSETTO:+0100
TZNAME:CET
DTSTART:20251026T010000
END:STANDARD
END:VTIMEZONE
BEGIN:VEVENT
DTSTART;TZID=Europe/Stockholm:20240303T130000
DTEND;TZID=Europe/Stockholm:20240303T150000
DTSTAMP:20260421T130614
CREATED:20240223T101735Z
LAST-MODIFIED:20240228T111335Z
UID:2945-1709470800-1709478000@www.zebransvanner.se
SUMMARY:Caféträff
DESCRIPTION:Öppen för alla \n\n\n\nDags för caféträff.Plats: Karla Café.Tid: Det är drop-in mellan 13.00 – 15.00Adress: Karlavägen 71\, Stockholm \n\n\n\nNi hittar oss på nedervåningen. \n\n\n\nDu som kommer är där för att fika och umgås.
URL:https://www.zebransvanner.se/aktivitet/cafetraff-17/
CATEGORIES:Öppen för alla
ATTACH;FMTTYPE=image/png:https://www.zebransvanner.se/wp-content/uploads/2020/08/Caféträff.png
END:VEVENT
BEGIN:VEVENT
DTSTART;TZID=Europe/Stockholm:20240312T160000
DTEND;TZID=Europe/Stockholm:20240312T190000
DTSTAMP:20260421T130614
CREATED:20240224T161603Z
LAST-MODIFIED:20240224T161604Z
UID:2948-1710259200-1710270000@www.zebransvanner.se
SUMMARY:Cafékväll
DESCRIPTION:Öppen för allaDags för cafékväll.Plats: Karla Café.Tid: Det är drop-in mellan 16.00 – 19.00. Karla café stänger kl. 19.00.Adress: Karlavägen 71\, Stockholm \n\n\n\nNi hittar oss på nedervåningen.Du som kommer är där för att fika och umgås.
URL:https://www.zebransvanner.se/aktivitet/cafekvall-36/
CATEGORIES:Öppen för alla
ATTACH;FMTTYPE=image/png:https://www.zebransvanner.se/wp-content/uploads/2022/06/cafetraff-wordpress.png
END:VEVENT
BEGIN:VEVENT
DTSTART;TZID=Europe/Stockholm:20240316T130000
DTEND;TZID=Europe/Stockholm:20240316T130000
DTSTAMP:20260421T130614
CREATED:20240228T105219Z
LAST-MODIFIED:20240228T110833Z
UID:2954-1710594000-1710594000@www.zebransvanner.se
SUMMARY:Brickwrecks på Vasamuseet
DESCRIPTION:Medlemsaktivitet”Brickwrecks innehåller modeller i LEGO® som ger liv åt åtta världskända skeppsbrott\, däribland Vasa. I utställningen kan besökare sänka Vasa\, prova på olika arkeologiska metoder och såklart bygga med LEGO®.” \n\n\n\n\n\n\n\nLördag 16:e mars.Samling 13.00 på Vasamuseet. Tid för att besöka utställningen är 13.30.Efter utställningen kan den som vill gå på resten av Vasamueet.Denna aktivitet kostar 20 kr att delta i.Anmälan krävs då vi behöver boka. Till anmälan (Sista dag att anmäla sig är den 9:e mars.)
URL:https://www.zebransvanner.se/aktivitet/brickwrecks-pa-vasamuseet/
CATEGORIES:Medlemsaktivitet
END:VEVENT
BEGIN:VEVENT
DTSTART;TZID=Europe/Stockholm:20240326T160000
DTEND;TZID=Europe/Stockholm:20240326T190000
DTSTAMP:20260421T130614
CREATED:20240224T161930Z
LAST-MODIFIED:20240324T123339Z
UID:2950-1711468800-1711479600@www.zebransvanner.se
SUMMARY:Cafékväll
DESCRIPTION:Öppen för allaDags för cafékväll.Plats: Karla Café.Tid: Det är drop-in mellan 16.00 – 19.00. Karla café stänger kl. 19.00.Adress: Karlavägen 71\, Stockholm \n\n\n\nNi hittar oss på nedervåningen.Du som kommer är där för att fika och umgås.
URL:https://www.zebransvanner.se/aktivitet/cafekvall-37/
CATEGORIES:Öppen för alla
ATTACH;FMTTYPE=image/png:https://www.zebransvanner.se/wp-content/uploads/2022/06/cafetraff-wordpress.png
END:VEVENT
END:VCALENDAR