BEGIN:VCALENDAR
VERSION:2.0
PRODID:-//Zebrans Vänner - ECPv6.15.20//NONSGML v1.0//EN
CALSCALE:GREGORIAN
METHOD:PUBLISH
X-ORIGINAL-URL:https://www.zebransvanner.se
X-WR-CALDESC:Händelser för Zebrans Vänner
REFRESH-INTERVAL;VALUE=DURATION:PT1H
X-Robots-Tag:noindex
X-PUBLISHED-TTL:PT1H
BEGIN:VTIMEZONE
TZID:Europe/Stockholm
BEGIN:DAYLIGHT
TZOFFSETFROM:+0100
TZOFFSETTO:+0200
TZNAME:CEST
DTSTART:20220327T010000
END:DAYLIGHT
BEGIN:STANDARD
TZOFFSETFROM:+0200
TZOFFSETTO:+0100
TZNAME:CET
DTSTART:20221030T010000
END:STANDARD
BEGIN:DAYLIGHT
TZOFFSETFROM:+0100
TZOFFSETTO:+0200
TZNAME:CEST
DTSTART:20230326T010000
END:DAYLIGHT
BEGIN:STANDARD
TZOFFSETFROM:+0200
TZOFFSETTO:+0100
TZNAME:CET
DTSTART:20231029T010000
END:STANDARD
BEGIN:DAYLIGHT
TZOFFSETFROM:+0100
TZOFFSETTO:+0200
TZNAME:CEST
DTSTART:20240331T010000
END:DAYLIGHT
BEGIN:STANDARD
TZOFFSETFROM:+0200
TZOFFSETTO:+0100
TZNAME:CET
DTSTART:20241027T010000
END:STANDARD
END:VTIMEZONE
BEGIN:VEVENT
DTSTART;TZID=Europe/Stockholm:20231203T130000
DTEND;TZID=Europe/Stockholm:20231203T130000
DTSTAMP:20260421T170646
CREATED:20230924T071147Z
LAST-MODIFIED:20231013T193951Z
UID:2830-1701608400-1701608400@www.zebransvanner.se
SUMMARY:Caféträff
DESCRIPTION:Öppen för alla \n\n\n\nDags för cafékväll.Plats: Karla Café.Tid: Det är drop-in mellan 13.00 – 15.00Adress: Karlavägen 71\, Stockholm \n\n\n\nNi hittar oss på nedervåningen. \n\n\n\nDu som kommer är där för att fika och umgås.Det är inte okej enligt caféet att bara komma dit och vara.
URL:https://www.zebransvanner.se/aktivitet/cafetraff-15/
CATEGORIES:Öppen för alla
ATTACH;FMTTYPE=image/png:https://www.zebransvanner.se/wp-content/uploads/2020/08/Caféträff.png
END:VEVENT
BEGIN:VEVENT
DTSTART;TZID=Europe/Stockholm:20231205T160000
DTEND;TZID=Europe/Stockholm:20231205T190000
DTSTAMP:20260421T170646
CREATED:20231127T082738Z
LAST-MODIFIED:20231127T082740Z
UID:2877-1701792000-1701802800@www.zebransvanner.se
SUMMARY:Cafékväll
DESCRIPTION:Öppen för allaDags för cafékväll.Plats: Karla Café.Tid: Det är drop-in mellan 16.00 – 19.00. Karla café stänger kl. 19.00.Adress: Karlavägen 71\, Stockholm \n\n\n\nNi hittar oss på nedervåningen.Du som kommer är där för att fika och umgås.Det är inte okej enligt caféet att bara komma dit och vara.
URL:https://www.zebransvanner.se/aktivitet/cafekvall-30/
CATEGORIES:Öppen för alla
ATTACH;FMTTYPE=image/png:https://www.zebransvanner.se/wp-content/uploads/2022/06/cafetraff-wordpress.png
END:VEVENT
BEGIN:VEVENT
DTSTART;TZID=Europe/Stockholm:20231215T190000
DTEND;TZID=Europe/Stockholm:20231215T190000
DTSTAMP:20260421T170646
CREATED:20231123T130155Z
LAST-MODIFIED:20231123T130535Z
UID:2870-1702666800-1702666800@www.zebransvanner.se
SUMMARY:2023 års avslutningsaktivitet
DESCRIPTION:MedlemsaktivitetÄnnu ett år med föreningen är på väg att ta slut.Vi avslutar detta med bowling och middag.För mer info. se separat mejl.
URL:https://www.zebransvanner.se/aktivitet/2023-ars-avslutningsaktivitet/
END:VEVENT
BEGIN:VEVENT
DTSTART;TZID=Europe/Stockholm:20231219T160000
DTEND;TZID=Europe/Stockholm:20231219T190000
DTSTAMP:20260421T170646
CREATED:20230924T073802Z
LAST-MODIFIED:20231013T194103Z
UID:2847-1703001600-1703012400@www.zebransvanner.se
SUMMARY:Cafékväll
DESCRIPTION:Öppen för allaDags för cafékväll.Plats: Karla Café.Tid: Det är drop-in mellan 16.00 – 19.00. Karla café stänger kl. 19.00.Adress: Karlavägen 71\, Stockholm \n\n\n\nNi hittar oss på nedervåningen.Du som kommer är där för att fika och umgås.Det är inte okej enligt caféet att bara komma dit och vara.
URL:https://www.zebransvanner.se/aktivitet/cafekvall-31/
CATEGORIES:Öppen för alla
ATTACH;FMTTYPE=image/png:https://www.zebransvanner.se/wp-content/uploads/2022/06/cafetraff-wordpress.png
END:VEVENT
END:VCALENDAR