BEGIN:VCALENDAR
VERSION:2.0
PRODID:-//Zebrans Vänner - ECPv6.15.20//NONSGML v1.0//EN
CALSCALE:GREGORIAN
METHOD:PUBLISH
X-WR-CALNAME:Zebrans Vänner
X-ORIGINAL-URL:https://www.zebransvanner.se
X-WR-CALDESC:Händelser för Zebrans Vänner
REFRESH-INTERVAL;VALUE=DURATION:PT1H
X-Robots-Tag:noindex
X-PUBLISHED-TTL:PT1H
BEGIN:VTIMEZONE
TZID:Europe/Stockholm
BEGIN:DAYLIGHT
TZOFFSETFROM:+0100
TZOFFSETTO:+0200
TZNAME:CEST
DTSTART:20220327T010000
END:DAYLIGHT
BEGIN:STANDARD
TZOFFSETFROM:+0200
TZOFFSETTO:+0100
TZNAME:CET
DTSTART:20221030T010000
END:STANDARD
BEGIN:DAYLIGHT
TZOFFSETFROM:+0100
TZOFFSETTO:+0200
TZNAME:CEST
DTSTART:20230326T010000
END:DAYLIGHT
BEGIN:STANDARD
TZOFFSETFROM:+0200
TZOFFSETTO:+0100
TZNAME:CET
DTSTART:20231029T010000
END:STANDARD
BEGIN:DAYLIGHT
TZOFFSETFROM:+0100
TZOFFSETTO:+0200
TZNAME:CEST
DTSTART:20240331T010000
END:DAYLIGHT
BEGIN:STANDARD
TZOFFSETFROM:+0200
TZOFFSETTO:+0100
TZNAME:CET
DTSTART:20241027T010000
END:STANDARD
END:VTIMEZONE
BEGIN:VEVENT
DTSTART;TZID=Europe/Stockholm:20231001T130000
DTEND;TZID=Europe/Stockholm:20231001T150000
DTSTAMP:20260421T195612
CREATED:20230924T064243Z
LAST-MODIFIED:20230924T064244Z
UID:2816-1696165200-1696172400@www.zebransvanner.se
SUMMARY:Caféträff
DESCRIPTION:Öppen för allaDags för cafékväll.Plats: Karla Café.Tid: Det är drop-in mellan 13.00 – 15.00Adress: Karlavägen 71\, Stockholm \n\n\n\nNi hittar oss på nedervåningen.Du som kommer är där för att fika och umgås.Det är inte okej enligt caféet att bara komma dit och vara.
URL:https://www.zebransvanner.se/aktivitet/cafetraff-13/
END:VEVENT
BEGIN:VEVENT
DTSTART;TZID=Europe/Stockholm:20231010T160000
DTEND;TZID=Europe/Stockholm:20231010T190000
DTSTAMP:20260421T195612
CREATED:20230924T072558Z
LAST-MODIFIED:20230924T072600Z
UID:2835-1696953600-1696964400@www.zebransvanner.se
SUMMARY:Cafékväll
DESCRIPTION:Öppen för allaDags för cafékväll.Plats: Karla Café.Tid: Det är drop-in mellan 16.00 – 19.00. Karla café stänger kl. 19.00.Adress: Karlavägen 71\, Stockholm \n\n\n\nNi hittar oss på nedervåningen.Du som kommer är där för att fika och umgås.Det är inte okej enligt caféet att bara komma dit och vara.
URL:https://www.zebransvanner.se/aktivitet/cafekvall-26/
END:VEVENT
BEGIN:VEVENT
DTSTART;TZID=Europe/Stockholm:20231014T130000
DTEND;TZID=Europe/Stockholm:20231014T130000
DTSTAMP:20260421T195612
CREATED:20230924T065810Z
LAST-MODIFIED:20231013T193304Z
UID:2822-1697288400-1697288400@www.zebransvanner.se
SUMMARY:Promenad
DESCRIPTION:Öppen för allaPromenad i Ulriksdals slottspark\, Bergshamra i Solna.Samling 13:00 vid tunnelbaneuppgången Bergshamra centrum.Därifrån promenerar vid till slottsparken. \n\n\n\nMedtag fika.
URL:https://www.zebransvanner.se/aktivitet/promenad-9/
ATTACH;FMTTYPE=image/png:https://www.zebransvanner.se/wp-content/uploads/2023/09/promenad1.png
END:VEVENT
BEGIN:VEVENT
DTSTART;TZID=Europe/Stockholm:20231021T130000
DTEND;TZID=Europe/Stockholm:20231021T130000
DTSTAMP:20260421T195612
CREATED:20230924T070722Z
LAST-MODIFIED:20231013T193223Z
UID:2826-1697893200-1697893200@www.zebransvanner.se
SUMMARY:Museum
DESCRIPTION:Medlemsaktivitet \n\n\n\nVi besöker utställningen Play beyond play – dataspelssutställning på Tekniska museet.tekniskamuseet.se/upplev/utstallningar/play-beyond-play/ \n\n\n\nSamling 13.00 vid kassan.
URL:https://www.zebransvanner.se/aktivitet/museum-2/
ATTACH;FMTTYPE=image/png:https://www.zebransvanner.se/wp-content/uploads/2023/02/museum.png
END:VEVENT
BEGIN:VEVENT
DTSTART;TZID=Europe/Stockholm:20231024T160000
DTEND;TZID=Europe/Stockholm:20231024T190000
DTSTAMP:20260421T195612
CREATED:20230924T072743Z
LAST-MODIFIED:20231013T193358Z
UID:2837-1698163200-1698174000@www.zebransvanner.se
SUMMARY:Cafékväll
DESCRIPTION:Öppen för allaDags för cafékväll.Plats: Karla Café.Tid: Det är drop-in mellan 16.00 – 19.00. Karla café stänger kl. 19.00.Adress: Karlavägen 71\, Stockholm \n\n\n\nNi hittar oss på nedervåningen.Du som kommer är där för att fika och umgås.Det är inte okej enligt caféet att bara komma dit och vara.
URL:https://www.zebransvanner.se/aktivitet/cafekvall-27/
CATEGORIES:Öppen för alla
ATTACH;FMTTYPE=image/png:https://www.zebransvanner.se/wp-content/uploads/2022/06/cafetraff-wordpress.png
END:VEVENT
END:VCALENDAR