BEGIN:VCALENDAR
VERSION:2.0
PRODID:-//Zebrans Vänner - ECPv6.15.20//NONSGML v1.0//EN
CALSCALE:GREGORIAN
METHOD:PUBLISH
X-ORIGINAL-URL:https://www.zebransvanner.se
X-WR-CALDESC:Händelser för Zebrans Vänner
REFRESH-INTERVAL;VALUE=DURATION:PT1H
X-Robots-Tag:noindex
X-PUBLISHED-TTL:PT1H
BEGIN:VTIMEZONE
TZID:Europe/Stockholm
BEGIN:DAYLIGHT
TZOFFSETFROM:+0100
TZOFFSETTO:+0200
TZNAME:CEST
DTSTART:20220327T010000
END:DAYLIGHT
BEGIN:STANDARD
TZOFFSETFROM:+0200
TZOFFSETTO:+0100
TZNAME:CET
DTSTART:20221030T010000
END:STANDARD
BEGIN:DAYLIGHT
TZOFFSETFROM:+0100
TZOFFSETTO:+0200
TZNAME:CEST
DTSTART:20230326T010000
END:DAYLIGHT
BEGIN:STANDARD
TZOFFSETFROM:+0200
TZOFFSETTO:+0100
TZNAME:CET
DTSTART:20231029T010000
END:STANDARD
BEGIN:DAYLIGHT
TZOFFSETFROM:+0100
TZOFFSETTO:+0200
TZNAME:CEST
DTSTART:20240331T010000
END:DAYLIGHT
BEGIN:STANDARD
TZOFFSETFROM:+0200
TZOFFSETTO:+0100
TZNAME:CET
DTSTART:20241027T010000
END:STANDARD
END:VTIMEZONE
BEGIN:VEVENT
DTSTART;TZID=Europe/Stockholm:20230801T160000
DTEND;TZID=Europe/Stockholm:20230801T190000
DTSTAMP:20260421T223124
CREATED:20230619T083750Z
LAST-MODIFIED:20230731T082609Z
UID:2760-1690905600-1690916400@www.zebransvanner.se
SUMMARY:OBS! Ändrad plats för Cafékväll
DESCRIPTION:Öppen för allaDet ska regna så vi flyttar in aktiviteten.Karla café16-19Karlavägen 71\, StockholmVi sitter på nedervåningen.
URL:https://www.zebransvanner.se/aktivitet/cafekvall-picknick-i-fredhallsparken/
CATEGORIES:Öppen för alla
ATTACH;FMTTYPE=image/png:https://www.zebransvanner.se/wp-content/uploads/2022/06/cafetraff-wordpress.png
END:VEVENT
BEGIN:VEVENT
DTSTART;TZID=Europe/Stockholm:20230806T130000
DTEND;TZID=Europe/Stockholm:20230806T150000
DTSTAMP:20260421T223124
CREATED:20230619T085744Z
LAST-MODIFIED:20230805T081524Z
UID:2762-1691326800-1691334000@www.zebransvanner.se
SUMMARY:Obs! Ändrad plats - Picknick och bad
DESCRIPTION:Öppen för alla \n\n\n\nPå grund av vädret så flyttar vi in aktiviteten till Karla café. \n\n\n\nKarlavägen 71\, Stockholm. Kl. 13-15. \n\n\n\nVi sitter på nedervåningen.
URL:https://www.zebransvanner.se/aktivitet/picknick-och-bad-3/
CATEGORIES:Öppen för alla
ATTACH;FMTTYPE=image/jpeg:https://www.zebransvanner.se/wp-content/uploads/2021/05/picknicken.jpg
END:VEVENT
BEGIN:VEVENT
DTSTART;TZID=Europe/Stockholm:20230815T160000
DTEND;TZID=Europe/Stockholm:20230815T190000
DTSTAMP:20260421T223124
CREATED:20230714T015200Z
LAST-MODIFIED:20230713T085422Z
UID:2794-1692115200-1692126000@www.zebransvanner.se
SUMMARY:Fest
DESCRIPTION:Öppen för allaVälkommen på \n\n\n\n\n\n\n\nCafékväll startade i augusti 2022 och den blev snabbt populär.Snart har det gått ett år och föreningen tänkte fira detta med en picknickfest.Plats: Fredhällsparken\, Stockholm. Se länk för exakt plats. Exakt platsDatum: Tisdag 15 augusti 2023.Tid: 16.00-19.00Tag med dig din picknick samt något att sitta på.Det kommer att bjudas på dryck (alkoholfritt)\, chips\, kakor m.m.Kl. 17.30 så kommer det finnas möjligheten att deltaga i femkamp.Välkommen!
URL:https://www.zebransvanner.se/aktivitet/fest/
CATEGORIES:Öppen för alla
ATTACH;FMTTYPE=image/png:https://www.zebransvanner.se/wp-content/uploads/2023/07/fest.png
END:VEVENT
BEGIN:VEVENT
DTSTART;TZID=Europe/Stockholm:20230819T130000
DTEND;TZID=Europe/Stockholm:20230819T130000
DTSTAMP:20260421T223124
CREATED:20230616T220000Z
LAST-MODIFIED:20230614T072508Z
UID:2753-1692450000-1692450000@www.zebransvanner.se
SUMMARY:Bangolf
DESCRIPTION:Medlemsaktivitet \n\n\n\nFölj med och spela bangolf på Tantogårdens bangolf.Vi samlas kl. 13.00 utanför Hornstulls tunnelbanestation\, uppgång Långholmsgatan nära den bruna grillkiosken.
URL:https://www.zebransvanner.se/aktivitet/bangolf/
END:VEVENT
BEGIN:VEVENT
DTSTART;TZID=Europe/Stockholm:20230829T160000
DTEND;TZID=Europe/Stockholm:20230829T190000
DTSTAMP:20260421T223124
CREATED:20230617T060000Z
LAST-MODIFIED:20230614T072915Z
UID:2757-1693324800-1693335600@www.zebransvanner.se
SUMMARY:Cafékväll
DESCRIPTION:Öppen för allaDags för cafékväll.Plats: Karla Café.Tid: Det är drop-in mellan 16.00 – 19.00. Karla café stänger kl. 19.00.Adress: Karlavägen 71\, Stockholm \n\n\n\nNi hittar oss på nedervåningen.Du som kommer är där för att fika och umgås.Det är inte okej enligt caféet att bara komma dit och vara.
URL:https://www.zebransvanner.se/aktivitet/cafekvall-23/
CATEGORIES:Öppen för alla
ATTACH;FMTTYPE=image/png:https://www.zebransvanner.se/wp-content/uploads/2022/06/cafetraff-wordpress.png
END:VEVENT
END:VCALENDAR