BEGIN:VCALENDAR
VERSION:2.0
PRODID:-//Zebrans Vänner - ECPv6.15.20//NONSGML v1.0//EN
CALSCALE:GREGORIAN
METHOD:PUBLISH
X-ORIGINAL-URL:https://www.zebransvanner.se
X-WR-CALDESC:Händelser för Zebrans Vänner
REFRESH-INTERVAL;VALUE=DURATION:PT1H
X-Robots-Tag:noindex
X-PUBLISHED-TTL:PT1H
BEGIN:VTIMEZONE
TZID:Europe/Stockholm
BEGIN:DAYLIGHT
TZOFFSETFROM:+0100
TZOFFSETTO:+0200
TZNAME:CEST
DTSTART:20220327T010000
END:DAYLIGHT
BEGIN:STANDARD
TZOFFSETFROM:+0200
TZOFFSETTO:+0100
TZNAME:CET
DTSTART:20221030T010000
END:STANDARD
BEGIN:DAYLIGHT
TZOFFSETFROM:+0100
TZOFFSETTO:+0200
TZNAME:CEST
DTSTART:20230326T010000
END:DAYLIGHT
BEGIN:STANDARD
TZOFFSETFROM:+0200
TZOFFSETTO:+0100
TZNAME:CET
DTSTART:20231029T010000
END:STANDARD
BEGIN:DAYLIGHT
TZOFFSETFROM:+0100
TZOFFSETTO:+0200
TZNAME:CEST
DTSTART:20240331T010000
END:DAYLIGHT
BEGIN:STANDARD
TZOFFSETFROM:+0200
TZOFFSETTO:+0100
TZNAME:CET
DTSTART:20241027T010000
END:STANDARD
END:VTIMEZONE
BEGIN:VEVENT
DTSTART;TZID=Europe/Stockholm:20230507T130000
DTEND;TZID=Europe/Stockholm:20230507T150000
DTSTAMP:20260422T020727
CREATED:20230315T094745Z
LAST-MODIFIED:20230315T094724Z
UID:2656-1683464400-1683471600@www.zebransvanner.se
SUMMARY:Caféträff
DESCRIPTION:Öppen för alla \n\n\n\nDags för caféträff.Plats: Karla CaféTid: Det är drop-in mellan 13.00 – 15.00.Adress: Karlavägen 71\, StockholmFikat är till självkostnadspris. \n\n\n\nNi hittar oss på nedervåningen. \n\n\n\nDu som kommer är där för att fika och umgås.Det är inte okej enligt caféet att bara komma dit och vara.
URL:https://www.zebransvanner.se/aktivitet/cafetraff-10/
CATEGORIES:Öppen för alla
ATTACH;FMTTYPE=image/png:https://www.zebransvanner.se/wp-content/uploads/2020/08/Caféträff.png
END:VEVENT
BEGIN:VEVENT
DTSTART;TZID=Europe/Stockholm:20230509T160000
DTEND;TZID=Europe/Stockholm:20230509T190000
DTSTAMP:20260422T020727
CREATED:20230315T094745Z
LAST-MODIFIED:20230315T094712Z
UID:2670-1683648000-1683658800@www.zebransvanner.se
SUMMARY:Cafékväll
DESCRIPTION:Öppen för alla \n\n\n\nDags för cafékväll.Plats: Karla Café.Tid: Det är drop-in mellan 16.00 – 19.00. Karla café stänger kl. 19.00.Adress: Karlavägen 71\, Stockholm \n\n\n\nNi hittar oss på nedervåningen.Du som kommer är där för att fika och umgås.Det är inte okej enligt caféet att bara komma dit och vara.
URL:https://www.zebransvanner.se/aktivitet/cafekvall-17/
CATEGORIES:Öppen för alla
ATTACH;FMTTYPE=image/png:https://www.zebransvanner.se/wp-content/uploads/2022/06/cafetraff-wordpress.png
END:VEVENT
BEGIN:VEVENT
DTSTART;TZID=Europe/Stockholm:20230523T160000
DTEND;TZID=Europe/Stockholm:20230523T190000
DTSTAMP:20260422T020727
CREATED:20230315T094730Z
LAST-MODIFIED:20230315T094701Z
UID:2672-1684857600-1684868400@www.zebransvanner.se
SUMMARY:Cafékväll
DESCRIPTION:Öppen för alla \n\n\n\nDags för cafékväll.Plats: Karla Café.Tid: Det är drop-in mellan 16.00 – 19.00. Karla café stänger kl. 19.00.Adress: Karlavägen 71\, Stockholm \n\n\n\nNi hittar oss på nedervåningen.Du som kommer är där för att fika och umgås.Det är inte okej enligt caféet att bara komma dit och vara.
URL:https://www.zebransvanner.se/aktivitet/cafekvall-18/
CATEGORIES:Öppen för alla
ATTACH;FMTTYPE=image/png:https://www.zebransvanner.se/wp-content/uploads/2022/06/cafetraff-wordpress.png
END:VEVENT
BEGIN:VEVENT
DTSTART;TZID=Europe/Stockholm:20230527T130000
DTEND;TZID=Europe/Stockholm:20230527T130000
DTSTAMP:20260422T020727
CREATED:20230315T095559Z
LAST-MODIFIED:20230315T095544Z
UID:2694-1685192400-1685192400@www.zebransvanner.se
SUMMARY:Promenad
DESCRIPTION:Öppen för allaVi besöker Kappsta naturreservat på Lidingö.Samling kl. 13.00 i Ropsten vid Lidingöbanan. Vi åker till Skärsätra och därifrån vi går till naturreservatet.Medtag fika.Lite fakta om Kappsta.Området köptes 1882 som sommarställe av läkaren Per Johan Wising. Han lät bygga ett större sommarhus där affärsmannen Raul Wallenberg föddes och tillbringade mycket tid under sin uppväxt.Även egendomarna Fredriksberg och Solbacken ingår i naturreservatet.Idag finns inga av husen kvar men man kan se husgrunder och annat. I området finns även en större växtlighet.Mer information finns att läsa på Wikipedia. https://sv.wikipedia.org/wiki/Kappsta_naturreservat
URL:https://www.zebransvanner.se/aktivitet/promenad-7/
CATEGORIES:Öppen för alla
ATTACH;FMTTYPE=image/png:https://www.zebransvanner.se/wp-content/uploads/2022/12/promenad1.png
END:VEVENT
END:VCALENDAR