BEGIN:VCALENDAR
VERSION:2.0
PRODID:-//Zebrans Vänner - ECPv6.15.20//NONSGML v1.0//EN
CALSCALE:GREGORIAN
METHOD:PUBLISH
X-ORIGINAL-URL:https://www.zebransvanner.se
X-WR-CALDESC:Händelser för Zebrans Vänner
REFRESH-INTERVAL;VALUE=DURATION:PT1H
X-Robots-Tag:noindex
X-PUBLISHED-TTL:PT1H
BEGIN:VTIMEZONE
TZID:Europe/Stockholm
BEGIN:DAYLIGHT
TZOFFSETFROM:+0100
TZOFFSETTO:+0200
TZNAME:CEST
DTSTART:20220327T010000
END:DAYLIGHT
BEGIN:STANDARD
TZOFFSETFROM:+0200
TZOFFSETTO:+0100
TZNAME:CET
DTSTART:20221030T010000
END:STANDARD
BEGIN:DAYLIGHT
TZOFFSETFROM:+0100
TZOFFSETTO:+0200
TZNAME:CEST
DTSTART:20230326T010000
END:DAYLIGHT
BEGIN:STANDARD
TZOFFSETFROM:+0200
TZOFFSETTO:+0100
TZNAME:CET
DTSTART:20231029T010000
END:STANDARD
BEGIN:DAYLIGHT
TZOFFSETFROM:+0100
TZOFFSETTO:+0200
TZNAME:CEST
DTSTART:20240331T010000
END:DAYLIGHT
BEGIN:STANDARD
TZOFFSETFROM:+0200
TZOFFSETTO:+0100
TZNAME:CET
DTSTART:20241027T010000
END:STANDARD
END:VTIMEZONE
BEGIN:VEVENT
DTSTART;TZID=Europe/Stockholm:20230402T130000
DTEND;TZID=Europe/Stockholm:20230402T150000
DTSTAMP:20260422T032506
CREATED:20230315T094806Z
LAST-MODIFIED:20230315T094836Z
UID:2650-1680440400-1680447600@www.zebransvanner.se
SUMMARY:Caféträff
DESCRIPTION:Öppen för alla \n\n\n\nDags för caféträffPats: Karla CaféTid: Det är drop-in mellan 13.00 – 15.00. Adress: Karlavägen 71\, StockholmFikat är till självkostnadspris. \n\n\n\nNi hittar oss på nedervåningen. \n\n\n\nDu som kommer är där för att fika och umgås.Det är inte okej enligt caféet att bara komma dit och vara.
URL:https://www.zebransvanner.se/aktivitet/cafetraff-9/
CATEGORIES:Öppen för alla
ATTACH;FMTTYPE=image/png:https://www.zebransvanner.se/wp-content/uploads/2020/08/Caféträff.png
END:VEVENT
BEGIN:VEVENT
DTSTART;TZID=Europe/Stockholm:20230411T160000
DTEND;TZID=Europe/Stockholm:20230411T190000
DTSTAMP:20260422T032506
CREATED:20230315T094855Z
LAST-MODIFIED:20230315T094824Z
UID:2664-1681228800-1681239600@www.zebransvanner.se
SUMMARY:Cafékväll
DESCRIPTION:Öppen för alla \n\n\n\nDags för cafékväll.Plats: Karla Café.Tid: Det är drop-in mellan 16.00 – 19.00. Karla café stänger kl. 19.00.Adress: Karlavägen 71\, Stockholm \n\n\n\nNi hittar oss på nedervåningen.Du som kommer är där för att fika och umgås.Det är inte okej enligt caféet att bara komma dit och vara.
URL:https://www.zebransvanner.se/aktivitet/cafekvall-15/
CATEGORIES:Öppen för alla
ATTACH;FMTTYPE=image/png:https://www.zebransvanner.se/wp-content/uploads/2022/06/cafetraff-wordpress.png
END:VEVENT
BEGIN:VEVENT
DTSTART;TZID=Europe/Stockholm:20230415T130000
DTEND;TZID=Europe/Stockholm:20230415T130000
DTSTAMP:20260422T032506
CREATED:20230315T094812Z
LAST-MODIFIED:20230315T094814Z
UID:2677-1681563600-1681563600@www.zebransvanner.se
SUMMARY:Leksaksmuseet
DESCRIPTION:MedlemsaktivitetFölj med till Leksaksmuseet i Nacka.Adress: Brantvägen 3\, Saltsjöbaden.Vi åker gemensamt dit med buss från Slussen. Du kan komma direkt till museet ifall du vill.Anmälan krävs och det finns totalt 10 platser. Till anmälan.Samling 13:00 utanför Pressbyrån vid Slussens tunnelbanestation.
URL:https://www.zebransvanner.se/aktivitet/leksaksmuseet/
CATEGORIES:Medlemsaktivitet
END:VEVENT
BEGIN:VEVENT
DTSTART;TZID=Europe/Stockholm:20230425T160000
DTEND;TZID=Europe/Stockholm:20230425T190000
DTSTAMP:20260422T032506
CREATED:20230315T094739Z
LAST-MODIFIED:20230315T094759Z
UID:2668-1682438400-1682449200@www.zebransvanner.se
SUMMARY:Cafékväll
DESCRIPTION:Öppen för alla \n\n\n\nDags för cafékväll.Plats: Karla Café.Tid: Det är drop-in mellan 16.00 – 19.00. Karla café stänger kl. 19.00.Adress: Karlavägen 71\, Stockholm \n\n\n\nNi hittar oss på nedervåningen.Du som kommer är där för att fika och umgås.Det är inte okej enligt caféet att bara komma dit och vara.
URL:https://www.zebransvanner.se/aktivitet/cafekvall-16/
CATEGORIES:Öppen för alla
ATTACH;FMTTYPE=image/png:https://www.zebransvanner.se/wp-content/uploads/2022/06/cafetraff-wordpress.png
END:VEVENT
BEGIN:VEVENT
DTSTART;TZID=Europe/Stockholm:20230429T130000
DTEND;TZID=Europe/Stockholm:20230429T130000
DTSTAMP:20260422T032506
CREATED:20230315T094737Z
LAST-MODIFIED:20230315T094749Z
UID:2692-1682773200-1682773200@www.zebransvanner.se
SUMMARY:Promenad
DESCRIPTION:Öppen för allaPromenad i Stora skuggan.Vi går i området kring Lappkärrsberget och Universitetet. Medtag fika.Samling kl. 13.00 utanför Pressbyrån vid Universitetets tunnelbanestation. \n\n\n\nHär kan ni läsa om promenaden:https://trippa.se/…/runt-lappkarrsberget-och-universitetet
URL:https://www.zebransvanner.se/aktivitet/promenad-6/
CATEGORIES:Öppen för alla
ATTACH;FMTTYPE=image/png:https://www.zebransvanner.se/wp-content/uploads/2022/12/promenad1.png
END:VEVENT
END:VCALENDAR