BEGIN:VCALENDAR
VERSION:2.0
PRODID:-//Zebrans Vänner - ECPv6.15.20//NONSGML v1.0//EN
CALSCALE:GREGORIAN
METHOD:PUBLISH
X-ORIGINAL-URL:https://www.zebransvanner.se
X-WR-CALDESC:Händelser för Zebrans Vänner
REFRESH-INTERVAL;VALUE=DURATION:PT1H
X-Robots-Tag:noindex
X-PUBLISHED-TTL:PT1H
BEGIN:VTIMEZONE
TZID:Europe/Stockholm
BEGIN:DAYLIGHT
TZOFFSETFROM:+0100
TZOFFSETTO:+0200
TZNAME:CEST
DTSTART:20220327T010000
END:DAYLIGHT
BEGIN:STANDARD
TZOFFSETFROM:+0200
TZOFFSETTO:+0100
TZNAME:CET
DTSTART:20221030T010000
END:STANDARD
BEGIN:DAYLIGHT
TZOFFSETFROM:+0100
TZOFFSETTO:+0200
TZNAME:CEST
DTSTART:20230326T010000
END:DAYLIGHT
BEGIN:STANDARD
TZOFFSETFROM:+0200
TZOFFSETTO:+0100
TZNAME:CET
DTSTART:20231029T010000
END:STANDARD
BEGIN:DAYLIGHT
TZOFFSETFROM:+0100
TZOFFSETTO:+0200
TZNAME:CEST
DTSTART:20240331T010000
END:DAYLIGHT
BEGIN:STANDARD
TZOFFSETFROM:+0200
TZOFFSETTO:+0100
TZNAME:CET
DTSTART:20241027T010000
END:STANDARD
END:VTIMEZONE
BEGIN:VEVENT
DTSTART;TZID=Europe/Stockholm:20230108T130000
DTEND;TZID=Europe/Stockholm:20230108T150000
DTSTAMP:20260422T072727
CREATED:20221226T231600Z
LAST-MODIFIED:20221217T132045Z
UID:2527-1673182800-1673190000@www.zebransvanner.se
SUMMARY:Caféträff
DESCRIPTION:Öppen för alla \n\n\n\nCaféträff på Karla Café. \n\n\n\nAdress: Karlavägen 71\, Stockholm. (Korsningen vid Odengatan)Det är drop-in mellan 13.00-15.00. \n\n\n\nÄven ickemedlemmar är välkomna på föreningens alla caféträffar.
URL:https://www.zebransvanner.se/aktivitet/cafetraff-6/
CATEGORIES:Öppen för alla
ATTACH;FMTTYPE=image/png:https://www.zebransvanner.se/wp-content/uploads/2020/08/Caféträff.png
END:VEVENT
BEGIN:VEVENT
DTSTART;TZID=Europe/Stockholm:20230114T130000
DTEND;TZID=Europe/Stockholm:20230114T130000
DTSTAMP:20260422T072727
CREATED:20221228T080000Z
LAST-MODIFIED:20221228T071356Z
UID:2595-1673701200-1673701200@www.zebransvanner.se
SUMMARY:Promenad
DESCRIPTION:Öppen för allaPromenad från Solna strand till S:t Eriksplan.Vi samlas kl. 13.00 vid Solna strands tunnelbaneuppgång.Klä dig efter både väder och temperatur.Medtag fika.Promenaden går längs med bl.a. Ullvsunda sjön och vidare mot S:t Eriksplan.Vid lämplig plats stannar vi och fikar.
URL:https://www.zebransvanner.se/aktivitet/promenad-5/
CATEGORIES:Öppen för alla
ATTACH;FMTTYPE=image/png:https://www.zebransvanner.se/wp-content/uploads/2022/12/Promenad-vinter.png
END:VEVENT
BEGIN:VEVENT
DTSTART;TZID=Europe/Stockholm:20230117T160000
DTEND;TZID=Europe/Stockholm:20230117T190000
DTSTAMP:20260422T072727
CREATED:20221226T231000Z
LAST-MODIFIED:20221217T132618Z
UID:2533-1673971200-1673982000@www.zebransvanner.se
SUMMARY:Cafékväll
DESCRIPTION:Öppen för alla \n\n\n\nDags för cafékväll.Pats: Karla Café.Tid: Det är drop-in mellan 16.00 – 19.00. Karla café stänger kl. 19.00.Adress: Karlavägen 71\, Stockholm \n\n\n\nNi hittar oss på nedervåningen.
URL:https://www.zebransvanner.se/aktivitet/cafekvall-12/
CATEGORIES:Öppen för alla
ATTACH;FMTTYPE=image/png:https://www.zebransvanner.se/wp-content/uploads/2022/06/cafetraff-wordpress.png
END:VEVENT
BEGIN:VEVENT
DTSTART;TZID=Europe/Stockholm:20230128T130000
DTEND;TZID=Europe/Stockholm:20230128T130000
DTSTAMP:20260422T072727
CREATED:20221228T081450Z
LAST-MODIFIED:20221228T081451Z
UID:2604-1674910800-1674910800@www.zebransvanner.se
SUMMARY:Go-kart i Kista
DESCRIPTION:MedlemsaktivitetVi kör Go-kart på Oleary’s i Kista. (Centrum)För att kunna deltaga så behöver du anmäla dig.Anmälan öppnar 17:e januari och stänger 24:e januari.Till anmälan. Ha oömma kläder på dig.Läs om go-karten på Oleary’s här:https://olearys.se/stockholm-kista…/activities/gokart/ 
URL:https://www.zebransvanner.se/aktivitet/go-kart-i-kista/
CATEGORIES:Medlemsaktivitet
ATTACH;FMTTYPE=image/jpeg:https://www.zebransvanner.se/wp-content/uploads/2021/11/go-kart-2.jpg
END:VEVENT
BEGIN:VEVENT
DTSTART;TZID=Europe/Stockholm:20230131T160000
DTEND;TZID=Europe/Stockholm:20230131T190000
DTSTAMP:20260422T072727
CREATED:20221226T230800Z
LAST-MODIFIED:20221217T164505Z
UID:2535-1675180800-1675191600@www.zebransvanner.se
SUMMARY:Cafékväll
DESCRIPTION:Öppen för alla \n\n\n\nDags för cafékväll.Pats: Karla Café.Tid: Det är drop-in mellan 16.00 – 19.00. Karla café stänger kl. 19.00.Adress: Karlavägen 71\, Stockholm \n\n\n\nNi hittar oss på nedervåningen.
URL:https://www.zebransvanner.se/aktivitet/cafekvall-13/
CATEGORIES:Öppen för alla
ATTACH;FMTTYPE=image/png:https://www.zebransvanner.se/wp-content/uploads/2022/06/cafetraff-wordpress.png
END:VEVENT
END:VCALENDAR