BEGIN:VCALENDAR
VERSION:2.0
PRODID:-//Zebrans Vänner - ECPv6.15.20//NONSGML v1.0//EN
CALSCALE:GREGORIAN
METHOD:PUBLISH
X-ORIGINAL-URL:https://www.zebransvanner.se
X-WR-CALDESC:Händelser för Zebrans Vänner
REFRESH-INTERVAL;VALUE=DURATION:PT1H
X-Robots-Tag:noindex
X-PUBLISHED-TTL:PT1H
BEGIN:VTIMEZONE
TZID:Europe/Stockholm
BEGIN:DAYLIGHT
TZOFFSETFROM:+0100
TZOFFSETTO:+0200
TZNAME:CEST
DTSTART:20210328T010000
END:DAYLIGHT
BEGIN:STANDARD
TZOFFSETFROM:+0200
TZOFFSETTO:+0100
TZNAME:CET
DTSTART:20211031T010000
END:STANDARD
BEGIN:DAYLIGHT
TZOFFSETFROM:+0100
TZOFFSETTO:+0200
TZNAME:CEST
DTSTART:20220327T010000
END:DAYLIGHT
BEGIN:STANDARD
TZOFFSETFROM:+0200
TZOFFSETTO:+0100
TZNAME:CET
DTSTART:20221030T010000
END:STANDARD
BEGIN:DAYLIGHT
TZOFFSETFROM:+0100
TZOFFSETTO:+0200
TZNAME:CEST
DTSTART:20230326T010000
END:DAYLIGHT
BEGIN:STANDARD
TZOFFSETFROM:+0200
TZOFFSETTO:+0100
TZNAME:CET
DTSTART:20231029T010000
END:STANDARD
END:VTIMEZONE
BEGIN:VEVENT
DTSTART;TZID=Europe/Stockholm:20220904T130000
DTEND;TZID=Europe/Stockholm:20220904T150000
DTSTAMP:20260422T130618
CREATED:20220623T082449Z
LAST-MODIFIED:20220724T085834Z
UID:2043-1662296400-1662303600@www.zebransvanner.se
SUMMARY:Caféträff
DESCRIPTION:Öppen för alla \nCaféträff på Karla Café.\nhttps://karlacafe.com/\nAdress: Karlavägen 71\, Stockholm\nDet är drop-in mellan 13.00-15.00.\nDu hittar oss på undre våningen. \nGångavstånd till caféet från Stadions tunnelbanestation\, uppgång Nybrogatan.
URL:https://www.zebransvanner.se/aktivitet/cafetraff-2/
CATEGORIES:Öppen för alla
ATTACH;FMTTYPE=image/png:https://www.zebransvanner.se/wp-content/uploads/2020/08/Caféträff.png
END:VEVENT
BEGIN:VEVENT
DTSTART;TZID=Europe/Stockholm:20220906T160000
DTEND;TZID=Europe/Stockholm:20220906T190000
DTSTAMP:20260422T130618
CREATED:20220623T082632Z
LAST-MODIFIED:20220724T085803Z
UID:2045-1662480000-1662490800@www.zebransvanner.se
SUMMARY:Cafékväll
DESCRIPTION:Öppen för alla \nVälkommen på cafékväll.\nVi kommer att hålla till på Karla Café.\nAdress: Karlavägen 71\, Stockholm\nTid: Det är drop-in mellan 16.00 – 19.00. (Caféet stänger kl. 19.00.) \nVi har inte lokalen för oss själva utan vi är där som vanliga cafébesökare; fikar\, pratar och umgås. Vi tänker hålla till på nedervåningen i caféet. Fikat är till självkostnadspris. \nResterande datum för cafékväll är: \n\nSeptember – 20\nOktober – 4\, 18\nNovember – 1\, 15\, 29\nDecember – 13
URL:https://www.zebransvanner.se/aktivitet/cafekvall-3/
CATEGORIES:Öppen för alla
ATTACH;FMTTYPE=image/png:https://www.zebransvanner.se/wp-content/uploads/2022/06/cafetraff-wordpress.png
END:VEVENT
BEGIN:VEVENT
DTSTART;TZID=Europe/Stockholm:20220910T130000
DTEND;TZID=Europe/Stockholm:20220910T210000
DTSTAMP:20260422T130618
CREATED:20220724T084646Z
LAST-MODIFIED:20220724T090448Z
UID:2184-1662814800-1662843600@www.zebransvanner.se
SUMMARY:Häng på Duvnäsgården
DESCRIPTION:Medlemsaktivitet \n\n\n\nVälkommen på Häng på DuvnäsgårdenFrån kl. 13 – 21.Adress: Duvnäsgatan 14\, Stockholm. Du får komma och gå som du vill.Det finns möjlighet att äta medhavd mat; mikrovågsugn finns att tillgå. Enklare fika att finns att köpa. Betala gärna med Swish. Kontant funkar också. OBS! Alkohol- och drogfritt!   \n\n\n\nLättaste sättet att ta sig hit är att ta buss 2 eller buss 66 till hållplats ”Sofia skolan”. Gå upp för backen sen hittar du lokalen till vänster på innergården med gallergrind.
URL:https://www.zebransvanner.se/aktivitet/2184/
CATEGORIES:Medlemsaktivitet
ATTACH;FMTTYPE=image/jpeg:https://www.zebransvanner.se/wp-content/uploads/2019/06/brädspel.jpg
END:VEVENT
BEGIN:VEVENT
DTSTART;TZID=Europe/Stockholm:20220920T160000
DTEND;TZID=Europe/Stockholm:20220920T190000
DTSTAMP:20260422T130618
CREATED:20220623T082950Z
LAST-MODIFIED:20220920T064354Z
UID:2047-1663689600-1663700400@www.zebransvanner.se
SUMMARY:Cafékväll
DESCRIPTION:Öppen för alla \nDags för cafékväll.Pats: Karla Café.Tid: Det är drop-in mellan 16.00 – 19.00. Karla café stänger kl. 19.00Adress: Karlavägen 71\, Stockholm \nNi hittar oss på nedervåningen.Aktiviteten är till självkostnadspris.
URL:https://www.zebransvanner.se/aktivitet/cafekvall-4/
CATEGORIES:Öppen för alla
ATTACH;FMTTYPE=image/png:https://www.zebransvanner.se/wp-content/uploads/2022/06/cafetraff-wordpress.png
END:VEVENT
BEGIN:VEVENT
DTSTART;TZID=Europe/Stockholm:20220924T130000
DTEND;TZID=Europe/Stockholm:20220924T130000
DTSTAMP:20260422T130618
CREATED:20220627T092317Z
LAST-MODIFIED:20220919T055123Z
UID:2088-1664024400-1664024400@www.zebransvanner.se
SUMMARY:Promenad
DESCRIPTION:Öppen för alla \nVi kommer att följa en runda i Bergshamra i Solna som ni kan läsa om på följande länk:https://trippa.se/tripp/bockholmen-och-pipers-park \n\n\nSamling kl. 13.00 utanför Bergshamras tunnelbanestation\, uppgång Bergshamra södra. \n\nVid något lämpligt ställe stannar vi för att äta vår medhavda fika.Tänk även på att klä dig efter både väder och temperatur.
URL:https://www.zebransvanner.se/aktivitet/promenad-2/
CATEGORIES:Öppen för alla
ATTACH;FMTTYPE=image/jpeg:https://www.zebransvanner.se/wp-content/uploads/2020/05/vector-boy-and-girl-hiking-on-the-hill.jpg
END:VEVENT
BEGIN:VEVENT
DTSTART;TZID=Europe/Stockholm:20220927T160000
DTEND;TZID=Europe/Stockholm:20220927T190000
DTSTAMP:20260422T130618
CREATED:20220913T192451Z
LAST-MODIFIED:20220920T063851Z
UID:2292-1664294400-1664305200@www.zebransvanner.se
SUMMARY:Cafékväll
DESCRIPTION:Öppen för alla \n\n\n\nDags för cafékväll.Pats: Karla Café.Tid: Det är drop-in mellan 16.00 – 19.00. Karla café stänger kl. 19.00.Adress: Karlavägen 71\, Stockholm \n\n\n\nNi hittar oss på nedervåningen. \n\n\n\nAktiviteten är till självkostnadspris.
URL:https://www.zebransvanner.se/aktivitet/cafekvall-5/
CATEGORIES:Öppen för alla
ATTACH;FMTTYPE=image/png:https://www.zebransvanner.se/wp-content/uploads/2022/06/cafetraff-wordpress.png
END:VEVENT
END:VCALENDAR