BEGIN:VCALENDAR
VERSION:2.0
PRODID:-//Zebrans Vänner - ECPv6.15.20//NONSGML v1.0//EN
CALSCALE:GREGORIAN
METHOD:PUBLISH
X-ORIGINAL-URL:https://www.zebransvanner.se
X-WR-CALDESC:Händelser för Zebrans Vänner
REFRESH-INTERVAL;VALUE=DURATION:PT1H
X-Robots-Tag:noindex
X-PUBLISHED-TTL:PT1H
BEGIN:VTIMEZONE
TZID:Europe/Stockholm
BEGIN:DAYLIGHT
TZOFFSETFROM:+0100
TZOFFSETTO:+0200
TZNAME:CEST
DTSTART:20210328T010000
END:DAYLIGHT
BEGIN:STANDARD
TZOFFSETFROM:+0200
TZOFFSETTO:+0100
TZNAME:CET
DTSTART:20211031T010000
END:STANDARD
BEGIN:DAYLIGHT
TZOFFSETFROM:+0100
TZOFFSETTO:+0200
TZNAME:CEST
DTSTART:20220327T010000
END:DAYLIGHT
BEGIN:STANDARD
TZOFFSETFROM:+0200
TZOFFSETTO:+0100
TZNAME:CET
DTSTART:20221030T010000
END:STANDARD
BEGIN:DAYLIGHT
TZOFFSETFROM:+0100
TZOFFSETTO:+0200
TZNAME:CEST
DTSTART:20230326T010000
END:DAYLIGHT
BEGIN:STANDARD
TZOFFSETFROM:+0200
TZOFFSETTO:+0100
TZNAME:CET
DTSTART:20231029T010000
END:STANDARD
END:VTIMEZONE
BEGIN:VEVENT
DTSTART;TZID=Europe/Stockholm:20220807T130000
DTEND;TZID=Europe/Stockholm:20220807T150000
DTSTAMP:20260422T143710
CREATED:20220623T075926Z
LAST-MODIFIED:20220919T053658Z
UID:2021-1659877200-1659884400@www.zebransvanner.se
SUMMARY:Caféträff
DESCRIPTION:Öppen för alla  \n\n\n\nCaféträff på Bröd och Salt. \n\n\n\nAdress: Birger Jarlsgatan 77\, Stockholm. (Korsningen vid Odengatan)Det är drop-in mellan 13.00-15.00. \n\n\n\nÄven ickemedlemmar är välkomna på föreningens alla caféträffar.
URL:https://www.zebransvanner.se/aktivitet/cafetraff/
CATEGORIES:Öppen för alla
ATTACH;FMTTYPE=image/png:https://www.zebransvanner.se/wp-content/uploads/2020/08/Caféträff.png
END:VEVENT
BEGIN:VEVENT
DTSTART;TZID=Europe/Stockholm:20220809T160000
DTEND;TZID=Europe/Stockholm:20220809T190000
DTSTAMP:20260422T143710
CREATED:20220623T082103Z
LAST-MODIFIED:20220724T090032Z
UID:2039-1660060800-1660071600@www.zebransvanner.se
SUMMARY:Cafékväll
DESCRIPTION:Öppen för alla \nVälkommen på cafékväll.\nVi kommer att hålla till på Karla Café.\nAdress: Karlavägen 71\, Stockholm\nTid: Det är drop-in mellan 16.00 – 19.00. (Caféet stänger kl. 19.00.) \nVi har inte lokalen för oss själva utan vi är där som vanliga cafébesökare; fikar\, pratar och umgås.\nVi tänker hålla till på nedervåningen i caféet. Fikat är till självkostnadspris. \nResterande datum för cafékväll är: \n\nAugusti – 23\nSeptember – 6\, 20\nOktober – 4\, 18\nNovember – 1\, 15\, 29\nDecember – 13
URL:https://www.zebransvanner.se/aktivitet/cafekvall/
CATEGORIES:Öppen för alla
ATTACH;FMTTYPE=image/png:https://www.zebransvanner.se/wp-content/uploads/2022/06/cafetraff-wordpress.png
END:VEVENT
BEGIN:VEVENT
DTSTART;TZID=Europe/Stockholm:20220818T160000
DTEND;TZID=Europe/Stockholm:20220818T180000
DTSTAMP:20260422T143710
CREATED:20220623T080717Z
LAST-MODIFIED:20220724T090007Z
UID:2029-1660838400-1660845600@www.zebransvanner.se
SUMMARY:Tjejträff
DESCRIPTION:Öppen för alla \nVälkommen på tjejträff.\nVi kommer att hålla till på Bröd och Salt.\nAdress: Birger Jarlsgatan 77\, Stockholm.\nTid: 16.00 – 18.00 \nVi har inte lokalen för oss själva utan vi är där som vanliga cafébesökare; fikar\, pratar och umgås. Vi tänker hålla till på nedervåningen i caféet. Fikat är till självkostnadspris. \nResterande datum för tjejträff är: \n\nOktober – 20\nDecember – 15
URL:https://www.zebransvanner.se/aktivitet/tjejtraff/
CATEGORIES:Öppen för alla
ATTACH;FMTTYPE=image/jpeg:https://www.zebransvanner.se/wp-content/uploads/2022/05/istockphoto-1193930720-612x612-1.jpg
END:VEVENT
BEGIN:VEVENT
DTSTART;TZID=Europe/Stockholm:20220820T140000
DTEND;TZID=Europe/Stockholm:20220820T140000
DTSTAMP:20260422T143710
CREATED:20220623T080906Z
LAST-MODIFIED:20220724T085941Z
UID:2031-1661004000-1661004000@www.zebransvanner.se
SUMMARY:Discgolf
DESCRIPTION:Medlemsaktivitet\n\nVi spelar discgolf på Kaknäs discgolfpark\, Stockholm. \nSamling kl. 14.00 vid Kaknästornets lilla parkering.\nTill Kaknäs discgolfpark tar du dig enkelt med från T-centralen med buss 69 mot Djurgårdsbrunn.\nBusshållplatsen T-centralen ligger på Klarabergsgatan där spårvagnen går. (Bussen stannar även vid bl.a. Nybrobplan.) Kliv av vid hållplatsen Kaknäs. \nHar du en frisbee för discgolf så ta med den\, i annat fall så finns det att låna.
URL:https://www.zebransvanner.se/aktivitet/discgolf/
CATEGORIES:Medlemsaktivitet
ATTACH;FMTTYPE=image/png:https://www.zebransvanner.se/wp-content/uploads/2021/09/bild_2021-09-29_170144.png
END:VEVENT
BEGIN:VEVENT
DTSTART;TZID=Europe/Stockholm:20220823T160000
DTEND;TZID=Europe/Stockholm:20220823T190000
DTSTAMP:20260422T143710
CREATED:20220623T081609Z
LAST-MODIFIED:20220724T085921Z
UID:2033-1661270400-1661281200@www.zebransvanner.se
SUMMARY:Cafékväll
DESCRIPTION:Öppen för alla \nVälkommen på cafékväll.\nVi kommer att hålla till på Karla Café.\nAdress: Karlavägen 71\, Stockholm\nTid: Det är drop-in mellan 16.00 – 19.00. (Caféet stänger kl. 19.00.) \nVi har inte lokalen för oss själva utan vi är där som vanliga cafébesökare; fikar\, pratar och umgås. Vi tänker hålla till på nedervåningen i caféet. Fikat är till självkostnadspris. \nResterande datum för cafékväll är: \n\nSeptember – 6\, 20\nOktober – 4\, 18\nNovember – 1\, 15\, 29\nDecember – 13
URL:https://www.zebransvanner.se/aktivitet/cafekvall-2/
CATEGORIES:Öppen för alla
ATTACH;FMTTYPE=image/png:https://www.zebransvanner.se/wp-content/uploads/2022/06/cafetraff-wordpress.png
END:VEVENT
BEGIN:VEVENT
DTSTART;TZID=Europe/Stockholm:20220827T130000
DTEND;TZID=Europe/Stockholm:20220827T130000
DTSTAMP:20260422T143710
CREATED:20220623T082315Z
LAST-MODIFIED:20220724T085858Z
UID:2041-1661605200-1661605200@www.zebransvanner.se
SUMMARY:Promenad
DESCRIPTION:Öppen för alla \nVi tar oss runt Brunnsviken och får uppleva den härliga naturen.\nSamling kl. 13.00 utanför Universitets tunnelbana\, vid Pressbyrån och går sedan vidare mot Brunnsviken. \nDet är tänkt att vi ska stanna till för medhavd fika så packa ner det du vill ha och ta gärna med dig någonting att kunna sitta på.\nTänk även på att klä dig efter både väder och temperatur.
URL:https://www.zebransvanner.se/aktivitet/promenad/
CATEGORIES:Öppen för alla
ATTACH;FMTTYPE=image/jpeg:https://www.zebransvanner.se/wp-content/uploads/2020/05/vector-boy-and-girl-hiking-on-the-hill.jpg
END:VEVENT
END:VCALENDAR