BEGIN:VCALENDAR
VERSION:2.0
PRODID:-//Zebrans Vänner - ECPv6.15.20//NONSGML v1.0//EN
CALSCALE:GREGORIAN
METHOD:PUBLISH
X-ORIGINAL-URL:https://www.zebransvanner.se
X-WR-CALDESC:Händelser för Zebrans Vänner
REFRESH-INTERVAL;VALUE=DURATION:PT1H
X-Robots-Tag:noindex
X-PUBLISHED-TTL:PT1H
BEGIN:VTIMEZONE
TZID:Europe/Stockholm
BEGIN:DAYLIGHT
TZOFFSETFROM:+0100
TZOFFSETTO:+0200
TZNAME:CEST
DTSTART:20210328T010000
END:DAYLIGHT
BEGIN:STANDARD
TZOFFSETFROM:+0200
TZOFFSETTO:+0100
TZNAME:CET
DTSTART:20211031T010000
END:STANDARD
BEGIN:DAYLIGHT
TZOFFSETFROM:+0100
TZOFFSETTO:+0200
TZNAME:CEST
DTSTART:20220327T010000
END:DAYLIGHT
BEGIN:STANDARD
TZOFFSETFROM:+0200
TZOFFSETTO:+0100
TZNAME:CET
DTSTART:20221030T010000
END:STANDARD
BEGIN:DAYLIGHT
TZOFFSETFROM:+0100
TZOFFSETTO:+0200
TZNAME:CEST
DTSTART:20230326T010000
END:DAYLIGHT
BEGIN:STANDARD
TZOFFSETFROM:+0200
TZOFFSETTO:+0100
TZNAME:CET
DTSTART:20231029T010000
END:STANDARD
END:VTIMEZONE
BEGIN:VEVENT
DTSTART;TZID=Europe/Stockholm:20220709T130000
DTEND;TZID=Europe/Stockholm:20220709T130000
DTSTAMP:20260422T160937
CREATED:20220623T074303Z
LAST-MODIFIED:20220727T131022Z
UID:2018-1657371600-1657371600@www.zebransvanner.se
SUMMARY:Bangolf på Sundbybergs bangolfklubb
DESCRIPTION:Medlemsaktivitet \nVi spelar bangolf på Sundbybergs bangolfklubb.\nAdress: Dimslöjan 1\, Sundbyberg \nFör den som vill gå i sällskap så finns möjligheten att\ngöra det från Näckrosens tunnelbanestation.\nSamling kl. 13.00 utanför på Storskogstorget. \nAnmälan krävs och det finns 8 platser. Till anmälan.
URL:https://www.zebransvanner.se/aktivitet/bangolf-pa-sundbybergs-bangolfklubb/
CATEGORIES:Medlemsaktivitet
ATTACH;FMTTYPE=image/png:https://www.zebransvanner.se/wp-content/uploads/2019/06/Anteckning-2019-06-26-111617.png
END:VEVENT
END:VCALENDAR