BEGIN:VCALENDAR
VERSION:2.0
PRODID:-//Zebrans Vänner - ECPv6.15.20//NONSGML v1.0//EN
CALSCALE:GREGORIAN
METHOD:PUBLISH
X-ORIGINAL-URL:https://www.zebransvanner.se
X-WR-CALDESC:Händelser för Zebrans Vänner
REFRESH-INTERVAL;VALUE=DURATION:PT1H
X-Robots-Tag:noindex
X-PUBLISHED-TTL:PT1H
BEGIN:VTIMEZONE
TZID:Europe/Stockholm
BEGIN:DAYLIGHT
TZOFFSETFROM:+0100
TZOFFSETTO:+0200
TZNAME:CEST
DTSTART:20210328T010000
END:DAYLIGHT
BEGIN:STANDARD
TZOFFSETFROM:+0200
TZOFFSETTO:+0100
TZNAME:CET
DTSTART:20211031T010000
END:STANDARD
BEGIN:DAYLIGHT
TZOFFSETFROM:+0100
TZOFFSETTO:+0200
TZNAME:CEST
DTSTART:20220327T010000
END:DAYLIGHT
BEGIN:STANDARD
TZOFFSETFROM:+0200
TZOFFSETTO:+0100
TZNAME:CET
DTSTART:20221030T010000
END:STANDARD
BEGIN:DAYLIGHT
TZOFFSETFROM:+0100
TZOFFSETTO:+0200
TZNAME:CEST
DTSTART:20230326T010000
END:DAYLIGHT
BEGIN:STANDARD
TZOFFSETFROM:+0200
TZOFFSETTO:+0100
TZNAME:CET
DTSTART:20231029T010000
END:STANDARD
BEGIN:DAYLIGHT
TZOFFSETFROM:+0100
TZOFFSETTO:+0200
TZNAME:CEST
DTSTART:20240331T010000
END:DAYLIGHT
BEGIN:STANDARD
TZOFFSETFROM:+0200
TZOFFSETTO:+0100
TZNAME:CET
DTSTART:20241027T010000
END:STANDARD
END:VTIMEZONE
BEGIN:VEVENT
DTSTART;TZID=Europe/Stockholm:20221001T130000
DTEND;TZID=Europe/Stockholm:20221001T130000
DTSTAMP:20260422T131017
CREATED:20220919T055713Z
LAST-MODIFIED:20220919T093907Z
UID:2322-1664629200-1664629200@www.zebransvanner.se
SUMMARY:Promenad
DESCRIPTION:Öppen för alla \n\n\n\nVi kommer att gå från Hornstull till Gullmarsplan via Årstaskogen. Medtag fika. \n\n\n\nSamling kl. 13.00 vid spärrarna på Hornstulls tunnelbanestation\, uppgång Långholmsgatan. \n\n\n\nVid något lämpligt ställe stannar vi för att äta vår medhavda fika.Tänk även på att klä dig efter både väder och temperatur.
URL:https://www.zebransvanner.se/aktivitet/promenad-3/
CATEGORIES:Öppen för alla
ATTACH;FMTTYPE=image/jpeg:https://www.zebransvanner.se/wp-content/uploads/2020/05/vector-boy-and-girl-hiking-on-the-hill.jpg
END:VEVENT
BEGIN:VEVENT
DTSTART;TZID=Europe/Stockholm:20221002T130000
DTEND;TZID=Europe/Stockholm:20221002T150000
DTSTAMP:20260422T131017
CREATED:20220919T054132Z
LAST-MODIFIED:20220919T095607Z
UID:2314-1664715600-1664722800@www.zebransvanner.se
SUMMARY:Caféträff
DESCRIPTION:Öppen för alla \n\n\n\nCaféträff på Bröd och Salt. \n\n\n\nAdress: Birger Jarlsgatan 77\, Stockholm. (Korsningen vid Odengatan)Det är drop-in mellan 13.00-15.00. \n\n\n\nÄven ickemedlemmar är välkomna på föreningens alla caféträffar.
URL:https://www.zebransvanner.se/aktivitet/cafetraff-3/
CATEGORIES:Öppen för alla
ATTACH;FMTTYPE=image/png:https://www.zebransvanner.se/wp-content/uploads/2020/08/Caféträff.png
END:VEVENT
BEGIN:VEVENT
DTSTART;TZID=Europe/Stockholm:20221011T160000
DTEND;TZID=Europe/Stockholm:20221011T190000
DTSTAMP:20260422T131017
CREATED:20220918T173420Z
LAST-MODIFIED:20220920T063807Z
UID:2299-1665504000-1665514800@www.zebransvanner.se
SUMMARY:Cafékväll
DESCRIPTION:Öppen för alla \n\n\n\nDags för cafékväll.Pats: Karla Café.Tid: Det är drop-in mellan 16.00 – 19.00. Karla café stänger kl. 19.00.Adress: Karlavägen 71\, Stockholm \n\n\n\nNi hittar oss på nedervåningen.
URL:https://www.zebransvanner.se/aktivitet/cafekvall-6/
CATEGORIES:Öppen för alla
ATTACH;FMTTYPE=image/png:https://www.zebransvanner.se/wp-content/uploads/2022/06/cafetraff-wordpress.png
END:VEVENT
BEGIN:VEVENT
DTSTART;TZID=Europe/Stockholm:20221015T110000
DTEND;TZID=Europe/Stockholm:20221015T160000
DTSTAMP:20260422T131017
CREATED:20220919T060455Z
LAST-MODIFIED:20220919T084127Z
UID:2327-1665831600-1665849600@www.zebransvanner.se
SUMMARY:Spelträff på Dragon's Lair
DESCRIPTION:MedlemsaktivitetVi spelar brädspel på Dragon’s Lair. Adress: Kungsholms torg 8\, Stockholm. (I källaren till spelbutiken)Du kan komma och gå som du vill mellan kl. 11.00 och 16.00.
URL:https://www.zebransvanner.se/aktivitet/speltraff-pa-dragons-lair/
CATEGORIES:Medlemsaktivitet
ATTACH;FMTTYPE=image/jpeg:https://www.zebransvanner.se/wp-content/uploads/2019/06/brädspel.jpg
END:VEVENT
BEGIN:VEVENT
DTSTART;TZID=Europe/Stockholm:20221020T160000
DTEND;TZID=Europe/Stockholm:20221020T180000
DTSTAMP:20260422T131017
CREATED:20221002T095329Z
LAST-MODIFIED:20221002T095330Z
UID:2431-1666281600-1666288800@www.zebransvanner.se
SUMMARY:Tjejträff
DESCRIPTION:Öppen för alla \n\n\n\nVälkommen på tjejträff.Vi kommer att hålla till på Bröd och Salt.Adress: Birger Jarlsgatan 77\, Stockholm.Tid: 16.00 – 18.00 \n\n\n\nVi har inte lokalen för oss själva utan vi är där som vanliga cafébesökare; fikar\, pratar och umgås. Vi tänker hålla till på nedervåningen i caféet. Fikat är till självkostnadspris. \n\n\n\nResterande datum för tjejträff är: \n\n\n\nDecember – 15
URL:https://www.zebransvanner.se/aktivitet/tjejtraff-2/
CATEGORIES:Öppen för alla
ATTACH;FMTTYPE=image/jpeg:https://www.zebransvanner.se/wp-content/uploads/2022/05/istockphoto-1193930720-612x612-1.jpg
END:VEVENT
BEGIN:VEVENT
DTSTART;TZID=Europe/Stockholm:20221025T160000
DTEND;TZID=Europe/Stockholm:20221025T190000
DTSTAMP:20260422T131017
CREATED:20220918T173532Z
LAST-MODIFIED:20220920T063747Z
UID:2301-1666713600-1666724400@www.zebransvanner.se
SUMMARY:Cafékväll
DESCRIPTION:Öppen för alla \n\n\n\nDags för cafékväll.Pats: Karla Café.Tid: Det är drop-in mellan 16.00 – 19.00. Karla café stänger kl. 19.00.Adress: Karlavägen 71\, Stockholm \n\n\n\nNi hittar oss på nedervåningen.
URL:https://www.zebransvanner.se/aktivitet/cafekvall-7/
CATEGORIES:Öppen för alla
ATTACH;FMTTYPE=image/png:https://www.zebransvanner.se/wp-content/uploads/2022/06/cafetraff-wordpress.png
END:VEVENT
BEGIN:VEVENT
DTSTART;TZID=Europe/Stockholm:20221105T084500
DTEND;TZID=Europe/Stockholm:20221105T084500
DTSTAMP:20260422T131017
CREATED:20221025T070455Z
LAST-MODIFIED:20221025T070456Z
UID:2490-1667637900-1667637900@www.zebransvanner.se
SUMMARY:Skärgårdstur
DESCRIPTION:Öppen för alla \n\n\n\nVi åker med M/S Skärgården till Linanäs på Ljusterö. (tur 971)Medtag matsäck/lunch. \n\n\n\nSamling 08:45 på Strömkajen vid Pressbyrån.Båten avgår 09:00 från Strömkajen\, Stockholm.Vi är framme vid Linanäs 10:50.Resan till Linanäs tar 2 tim 5 min. \n\n\n\nFramme på Linanäs så äter vi våran medhavda matsäck/lunch. \n\n\n\nResan är till självkostnadspris.Du reser gratis med Waxholmsbolaget under lågsäsong om du har 30-dagars-\, 90-dagars- eller årskort. \n\n\n\nHemresan sker med SL-buss 626 mot Danderyds Sjukhus (T)\, via Åkersberga. Bussen avgår 11:48 och beräknas vara framme vid Danderyds Sjukhus 13:28.
URL:https://www.zebransvanner.se/aktivitet/skargardstur/
CATEGORIES:Öppen för alla
ATTACH;FMTTYPE=image/jpeg:https://www.zebransvanner.se/wp-content/uploads/2022/10/emteo8kvhg6sughtsj4a.jpg
END:VEVENT
BEGIN:VEVENT
DTSTART;TZID=Europe/Stockholm:20221106T130000
DTEND;TZID=Europe/Stockholm:20221106T150000
DTSTAMP:20260422T131017
CREATED:20220919T054408Z
LAST-MODIFIED:20221017T174952Z
UID:2316-1667739600-1667746800@www.zebransvanner.se
SUMMARY:Caféträff
DESCRIPTION:Välkommen på caféträff! \n\n\n\nPlats: Karla Café  \n\n\n\nKarlavägen 71\, Stockholm. \n\n\n\nDet är drop-in mellan 13.00-15.00. Vi sitter vi en trappa ner. \n\n\n\nÖppen för alla innebär att även du som inte är medlem i föreningen men som faller in i målgruppen är välkommen att vara med. Visa mindre
URL:https://www.zebransvanner.se/aktivitet/cafetraff-4/
CATEGORIES:Öppen för alla
ATTACH;FMTTYPE=image/png:https://www.zebransvanner.se/wp-content/uploads/2020/08/Caféträff.png
END:VEVENT
BEGIN:VEVENT
DTSTART;TZID=Europe/Stockholm:20221108T160000
DTEND;TZID=Europe/Stockholm:20221108T190000
DTSTAMP:20260422T131017
CREATED:20220919T053108Z
LAST-MODIFIED:20220920T064458Z
UID:2306-1667923200-1667934000@www.zebransvanner.se
SUMMARY:Cafékväll
DESCRIPTION:Öppen för alla \n\n\n\nDags för cafékväll.Pats: Karla Café.Tid: Det är drop-in mellan 16.00 – 19.00. Karla café stänger kl. 19.00.Adress: Karlavägen 71\, Stockholm \n\n\n\nNi hittar oss på nedervåningen.
URL:https://www.zebransvanner.se/aktivitet/cafekvall-8/
CATEGORIES:Öppen för alla
ATTACH;FMTTYPE=image/png:https://www.zebransvanner.se/wp-content/uploads/2022/06/cafetraff-wordpress.png
END:VEVENT
BEGIN:VEVENT
DTSTART;TZID=Europe/Stockholm:20221112T130000
DTEND;TZID=Europe/Stockholm:20221112T130000
DTSTAMP:20260422T131017
CREATED:20220919T065821Z
LAST-MODIFIED:20221023T075232Z
UID:2329-1668258000-1668258000@www.zebransvanner.se
SUMMARY:Trampolinpark
DESCRIPTION:Medlemsaktivitet Anmälan krävs. Vi besöker trampolinparken Yoump i Kungens Kurva. Adress: Månskärsvägen 1\, 141 75\, Huddinge. Hur ska man vara klädd: Klä dig i enkla kläder som ex. gympabyxor och t-shirt\, omklädningsrum finns på plats. Skor behövs inte då man endast har på sig speciella strumpor som man får på plats.Samling kl. 13.00 vid busshållplats Pyramidbacken i Huddinge\, en kort bit från trampolinparken. Vill du hellre mötas upp i trampolinparken så meddelar du det i anmälningsformuläret. Anmälan öppnar 27 oktober.Till anmälan
URL:https://www.zebransvanner.se/aktivitet/trampolinpark/
CATEGORIES:Medlemsaktivitet
ATTACH;FMTTYPE=image/gif:https://www.zebransvanner.se/wp-content/uploads/2022/09/yoump_logo.gif
END:VEVENT
BEGIN:VEVENT
DTSTART;TZID=Europe/Stockholm:20221122T160000
DTEND;TZID=Europe/Stockholm:20221122T190000
DTSTAMP:20260422T131017
CREATED:20220919T053320Z
LAST-MODIFIED:20221023T075410Z
UID:2308-1669132800-1669143600@www.zebransvanner.se
SUMMARY:Cafékväll
DESCRIPTION:Öppen för alla \n\n\n\nDags för cafékväll.Pats: Karla Café.Tid: Det är drop-in mellan 16.00 – 19.00. Karla café stänger kl. 19.00.Adress: Karlavägen 71\, Stockholm \n\n\n\nNi hittar oss på nedervåningen.
URL:https://www.zebransvanner.se/aktivitet/cafevall/
CATEGORIES:Öppen för alla
ATTACH;FMTTYPE=image/png:https://www.zebransvanner.se/wp-content/uploads/2022/06/cafetraff-wordpress.png
END:VEVENT
BEGIN:VEVENT
DTSTART;TZID=Europe/Stockholm:20221126T130000
DTEND;TZID=Europe/Stockholm:20221126T170000
DTSTAMP:20260422T131017
CREATED:20220919T070807Z
LAST-MODIFIED:20221023T075511Z
UID:2335-1669467600-1669482000@www.zebransvanner.se
SUMMARY:Promenad med besök på julmarknad
DESCRIPTION:Öppen för alla \n\n\n\nVi promenerar från Skanstull med målet att besöka Gamla stans julmarknad.Samling vid spärrarna till Skanstulls tunnelbanestation\, uppgång Ringvägen.Tänk på att klä dig både efter väder och temperatur.
URL:https://www.zebransvanner.se/aktivitet/promenad-med-besok-pa-julmarknad/
CATEGORIES:Öppen för alla
END:VEVENT
BEGIN:VEVENT
DTSTART;TZID=Europe/Stockholm:20221204T130000
DTEND;TZID=Europe/Stockholm:20221204T150000
DTSTAMP:20260422T131017
CREATED:20220919T054532Z
LAST-MODIFIED:20221126T153643Z
UID:2318-1670158800-1670166000@www.zebransvanner.se
SUMMARY:Caféträff
DESCRIPTION:Öppen för alla \n\n\n\nDags för caféträff \n\n\n\nPats: Karla Café. \n\n\n\nTid: Det är drop-in mellan 13.00 – 15.00. Adress: Karlavägen 71\, Stockholm \n\n\n\nNi hittar oss på nedervåningen. \n\n\n\nDu som kommer är där för att fika och umgås. Det är inte okej enligt caféet att bara komma dit och vara.
URL:https://www.zebransvanner.se/aktivitet/cafetraff-5/
CATEGORIES:Öppen för alla
ATTACH;FMTTYPE=image/png:https://www.zebransvanner.se/wp-content/uploads/2020/08/Caféträff.png
END:VEVENT
BEGIN:VEVENT
DTSTART;TZID=Europe/Stockholm:20221206T160000
DTEND;TZID=Europe/Stockholm:20221206T190000
DTSTAMP:20260422T131017
CREATED:20220919T053448Z
LAST-MODIFIED:20220920T064541Z
UID:2310-1670342400-1670353200@www.zebransvanner.se
SUMMARY:Cafékväll
DESCRIPTION:Öppen för alla \n\n\n\nDags för cafékväll.Pats: Karla Café.Tid: Det är drop-in mellan 16.00 – 19.00. Karla café stänger kl. 19.00.Adress: Karlavägen 71\, Stockholm \n\n\n\nNi hittar oss på nedervåningen.
URL:https://www.zebransvanner.se/aktivitet/cafekvall-9/
CATEGORIES:Öppen för alla
ATTACH;FMTTYPE=image/png:https://www.zebransvanner.se/wp-content/uploads/2022/06/cafetraff-wordpress.png
END:VEVENT
BEGIN:VEVENT
DTSTART;TZID=Europe/Stockholm:20221210T125000
DTEND;TZID=Europe/Stockholm:20221210T125000
DTSTAMP:20260422T131017
CREATED:20220921T142200Z
LAST-MODIFIED:20221023T075048Z
UID:2416-1670676600-1670676600@www.zebransvanner.se
SUMMARY:Laserdome\, Kungsholmen
DESCRIPTION:MedlemsaktivitetAnmälan krävs.Aktivitet på Laserdome.Samling kl 12.50 på Laserdome.Adress: S:t Eriksgatan 56\, StockholmAnmälan öppnar 25 november.Till anmälan
URL:https://www.zebransvanner.se/aktivitet/laserdome-kungsholmen/
ATTACH;FMTTYPE=image/png:https://www.zebransvanner.se/wp-content/uploads/2022/03/Laserdom-2.png
END:VEVENT
BEGIN:VEVENT
DTSTART;TZID=Europe/Stockholm:20221215T160000
DTEND;TZID=Europe/Stockholm:20221215T180000
DTSTAMP:20260422T131017
CREATED:20221023T074718Z
LAST-MODIFIED:20221023T074757Z
UID:2475-1671120000-1671127200@www.zebransvanner.se
SUMMARY:Tjejträff
DESCRIPTION:Öppen för alla \n\n\n\nVälkommen på tjejträff.Alla som faller in i målgruppen aspergers/autism 18+ är välkomna.Vi kommer att hålla till på Karla café.Adress: Karlavägen 71\, Stockholm.Tid: 16.00 – 18.00 \n\n\n\nVi har inte lokalen för oss själva utan vi är där som vanliga cafébesökare; fikar\, pratar och umgås. Vi tänker hålla till på nedervåningen i caféet.
URL:https://www.zebransvanner.se/aktivitet/tjejtraff-3/
CATEGORIES:Öppen för alla
ATTACH;FMTTYPE=image/jpeg:https://www.zebransvanner.se/wp-content/uploads/2022/05/istockphoto-1193930720-612x612-1.jpg
END:VEVENT
BEGIN:VEVENT
DTSTART;TZID=Europe/Stockholm:20221216T180000
DTEND;TZID=Europe/Stockholm:20221216T180000
DTSTAMP:20260422T131017
CREATED:20220919T074104Z
LAST-MODIFIED:20221127T101356Z
UID:2340-1671213600-1671213600@www.zebransvanner.se
SUMMARY:Avslutning på restaurang
DESCRIPTION:Öppen för allaAnmälan krävs \n\n\n\nVi avslutar aktivitetsåret 2022 med att besöka restaurang Indian Garden.Aktiviteten är till självkostnadspris. \n\n\n\nAnmälan öppnar 27 november.Till anmälan
URL:https://www.zebransvanner.se/aktivitet/avslutning-pa-restaurang/
CATEGORIES:Öppen för alla
ATTACH;FMTTYPE=image/png:https://www.zebransvanner.se/wp-content/uploads/2022/09/restaurang.png
END:VEVENT
BEGIN:VEVENT
DTSTART;TZID=Europe/Stockholm:20221220T160000
DTEND;TZID=Europe/Stockholm:20221220T190000
DTSTAMP:20260422T131017
CREATED:20220919T071213Z
LAST-MODIFIED:20220920T064601Z
UID:2338-1671552000-1671562800@www.zebransvanner.se
SUMMARY:Cafékväll
DESCRIPTION:Öppen för alla \n\n\n\nDags för cafékväll.Pats: Karla Café.Tid: Det är drop-in mellan 16.00 – 19.00. Karla café stänger kl. 19.00.Adress: Karlavägen 71\, Stockholm \n\n\n\nNi hittar oss på nedervåningen.
URL:https://www.zebransvanner.se/aktivitet/cafekvall-10/
CATEGORIES:Öppen för alla
ATTACH;FMTTYPE=image/png:https://www.zebransvanner.se/wp-content/uploads/2022/06/cafetraff-wordpress.png
END:VEVENT
BEGIN:VEVENT
DTSTART;TZID=Europe/Stockholm:20230108T130000
DTEND;TZID=Europe/Stockholm:20230108T150000
DTSTAMP:20260422T131017
CREATED:20221226T231600Z
LAST-MODIFIED:20221217T132045Z
UID:2527-1673182800-1673190000@www.zebransvanner.se
SUMMARY:Caféträff
DESCRIPTION:Öppen för alla \n\n\n\nCaféträff på Karla Café. \n\n\n\nAdress: Karlavägen 71\, Stockholm. (Korsningen vid Odengatan)Det är drop-in mellan 13.00-15.00. \n\n\n\nÄven ickemedlemmar är välkomna på föreningens alla caféträffar.
URL:https://www.zebransvanner.se/aktivitet/cafetraff-6/
CATEGORIES:Öppen för alla
ATTACH;FMTTYPE=image/png:https://www.zebransvanner.se/wp-content/uploads/2020/08/Caféträff.png
END:VEVENT
BEGIN:VEVENT
DTSTART;TZID=Europe/Stockholm:20230114T130000
DTEND;TZID=Europe/Stockholm:20230114T130000
DTSTAMP:20260422T131017
CREATED:20221228T080000Z
LAST-MODIFIED:20221228T071356Z
UID:2595-1673701200-1673701200@www.zebransvanner.se
SUMMARY:Promenad
DESCRIPTION:Öppen för allaPromenad från Solna strand till S:t Eriksplan.Vi samlas kl. 13.00 vid Solna strands tunnelbaneuppgång.Klä dig efter både väder och temperatur.Medtag fika.Promenaden går längs med bl.a. Ullvsunda sjön och vidare mot S:t Eriksplan.Vid lämplig plats stannar vi och fikar.
URL:https://www.zebransvanner.se/aktivitet/promenad-5/
CATEGORIES:Öppen för alla
ATTACH;FMTTYPE=image/png:https://www.zebransvanner.se/wp-content/uploads/2022/12/Promenad-vinter.png
END:VEVENT
BEGIN:VEVENT
DTSTART;TZID=Europe/Stockholm:20230117T160000
DTEND;TZID=Europe/Stockholm:20230117T190000
DTSTAMP:20260422T131017
CREATED:20221226T231000Z
LAST-MODIFIED:20221217T132618Z
UID:2533-1673971200-1673982000@www.zebransvanner.se
SUMMARY:Cafékväll
DESCRIPTION:Öppen för alla \n\n\n\nDags för cafékväll.Pats: Karla Café.Tid: Det är drop-in mellan 16.00 – 19.00. Karla café stänger kl. 19.00.Adress: Karlavägen 71\, Stockholm \n\n\n\nNi hittar oss på nedervåningen.
URL:https://www.zebransvanner.se/aktivitet/cafekvall-12/
CATEGORIES:Öppen för alla
ATTACH;FMTTYPE=image/png:https://www.zebransvanner.se/wp-content/uploads/2022/06/cafetraff-wordpress.png
END:VEVENT
BEGIN:VEVENT
DTSTART;TZID=Europe/Stockholm:20230128T130000
DTEND;TZID=Europe/Stockholm:20230128T130000
DTSTAMP:20260422T131017
CREATED:20221228T081450Z
LAST-MODIFIED:20221228T081451Z
UID:2604-1674910800-1674910800@www.zebransvanner.se
SUMMARY:Go-kart i Kista
DESCRIPTION:MedlemsaktivitetVi kör Go-kart på Oleary’s i Kista. (Centrum)För att kunna deltaga så behöver du anmäla dig.Anmälan öppnar 17:e januari och stänger 24:e januari.Till anmälan. Ha oömma kläder på dig.Läs om go-karten på Oleary’s här:https://olearys.se/stockholm-kista…/activities/gokart/ 
URL:https://www.zebransvanner.se/aktivitet/go-kart-i-kista/
CATEGORIES:Medlemsaktivitet
ATTACH;FMTTYPE=image/jpeg:https://www.zebransvanner.se/wp-content/uploads/2021/11/go-kart-2.jpg
END:VEVENT
BEGIN:VEVENT
DTSTART;TZID=Europe/Stockholm:20230131T160000
DTEND;TZID=Europe/Stockholm:20230131T190000
DTSTAMP:20260422T131017
CREATED:20221226T230800Z
LAST-MODIFIED:20221217T164505Z
UID:2535-1675180800-1675191600@www.zebransvanner.se
SUMMARY:Cafékväll
DESCRIPTION:Öppen för alla \n\n\n\nDags för cafékväll.Pats: Karla Café.Tid: Det är drop-in mellan 16.00 – 19.00. Karla café stänger kl. 19.00.Adress: Karlavägen 71\, Stockholm \n\n\n\nNi hittar oss på nedervåningen.
URL:https://www.zebransvanner.se/aktivitet/cafekvall-13/
CATEGORIES:Öppen för alla
ATTACH;FMTTYPE=image/png:https://www.zebransvanner.se/wp-content/uploads/2022/06/cafetraff-wordpress.png
END:VEVENT
BEGIN:VEVENT
DTSTART;TZID=Europe/Stockholm:20230204T130000
DTEND;TZID=Europe/Stockholm:20230204T130000
DTSTAMP:20260422T131017
CREATED:20221228T080000Z
LAST-MODIFIED:20221228T074504Z
UID:2547-1675515600-1675515600@www.zebransvanner.se
SUMMARY:Nordiska museet - Utställningen om Arktis
DESCRIPTION:MedlemsaktivitetVi besöker Nordiska museet och utställningen om Arktis.”Nordiska museets stora hall har gett plats åt livet och förändringarna i Arktis.I utställningen Arktis – medan isen smälter möter du isens historia och framtid – men framförallt de människor som bor i dagens Arktis genom föremål\, foton\, design\, konstverk\, filmer och projektioner.Här upptäcker du även samiska föremål utställda i ett arktiskt och nordiskt sammanhang.”Samling kl. 13.00 inne i entrén.
URL:https://www.zebransvanner.se/aktivitet/nordiska-museet-utstallningen-om-arktis/
CATEGORIES:Medlemsaktivitet
END:VEVENT
BEGIN:VEVENT
DTSTART;TZID=Europe/Stockholm:20230205T130000
DTEND;TZID=Europe/Stockholm:20230205T150000
DTSTAMP:20260422T131017
CREATED:20221226T231700Z
LAST-MODIFIED:20221217T131925Z
UID:2530-1675602000-1675609200@www.zebransvanner.se
SUMMARY:Caféträff
DESCRIPTION:Öppen för alla \n\n\n\nCaféträff på Karla Café. \n\n\n\nAdress: Karlavägen 71\, Stockholm. (Korsningen vid Odengatan)Det är drop-in mellan 13.00-15.00. \n\n\n\nÄven ickemedlemmar är välkomna på föreningens alla caféträffar.
URL:https://www.zebransvanner.se/aktivitet/cafetraff-7/
CATEGORIES:Öppen för alla
ATTACH;FMTTYPE=image/png:https://www.zebransvanner.se/wp-content/uploads/2020/08/Caféträff.png
END:VEVENT
BEGIN:VEVENT
DTSTART;TZID=Europe/Stockholm:20230214T160000
DTEND;TZID=Europe/Stockholm:20230214T190000
DTSTAMP:20260422T131017
CREATED:20221226T230100Z
LAST-MODIFIED:20221217T154039Z
UID:2550-1676390400-1676401200@www.zebransvanner.se
SUMMARY:Cafékväll
DESCRIPTION:Öppen för alla \n\n\n\nDags för cafékväll.Pats: Karla Café.Tid: Det är drop-in mellan 16.00 – 19.00. Karla café stänger kl. 19.00.Adress: Karlavägen 71\, Stockholm \n\n\n\nNi hittar oss på nedervåningen.
URL:https://www.zebransvanner.se/aktivitet/2550/
CATEGORIES:Öppen för alla
ATTACH;FMTTYPE=image/png:https://www.zebransvanner.se/wp-content/uploads/2022/06/cafetraff-wordpress.png
END:VEVENT
BEGIN:VEVENT
DTSTART;TZID=Europe/Stockholm:20230218T133000
DTEND;TZID=Europe/Stockholm:20230218T150000
DTSTAMP:20260422T131017
CREATED:20230201T081803Z
LAST-MODIFIED:20230201T094404Z
UID:2622-1676727000-1676732400@www.zebransvanner.se
SUMMARY:Bowling
DESCRIPTION:MedlemsaktivitetAnmälan krävs. Det finns plats för 7 spelare.Till anmälan.Bowling i Sollentuna bowlinghall.Samling 13.15 utanför entrén.Adress: Stubbhagsvägen 2\, Sollentuna (Ingång under Sollentuna sim- och sporthall)2 banor är bokade.Hitta hit:Buss 607 från Danderyds sjukhus (T-bana)Kliv av vid hållplats Edsbacka.Buss 607 eller 627 från Sollentuna station (Vid pendeltågstationen Sollentuna)Kliv av vid hållplats Edsbacka.Väg från busshållplatsen till Bowlinghallen.(Tryck på bilden för större storlek)
URL:https://www.zebransvanner.se/aktivitet/bowling/
CATEGORIES:Medlemsaktivitet
ATTACH;FMTTYPE=image/jpeg:https://www.zebransvanner.se/wp-content/uploads/2023/02/bowling.jpg
END:VEVENT
BEGIN:VEVENT
DTSTART;TZID=Europe/Stockholm:20230228T160000
DTEND;TZID=Europe/Stockholm:20230228T190000
DTSTAMP:20260422T131017
CREATED:20221226T230100Z
LAST-MODIFIED:20221217T153937Z
UID:2552-1677600000-1677610800@www.zebransvanner.se
SUMMARY:Cafékväll
DESCRIPTION:Öppen för alla \n\n\n\nDags för cafékväll.Pats: Karla Café.Tid: Det är drop-in mellan 16.00 – 19.00. Karla café stänger kl. 19.00.Adress: Karlavägen 71\, Stockholm \n\n\n\nNi hittar oss på nedervåningen.
URL:https://www.zebransvanner.se/aktivitet/cafekvall-14/
CATEGORIES:Öppen för alla
ATTACH;FMTTYPE=image/png:https://www.zebransvanner.se/wp-content/uploads/2022/06/cafetraff-wordpress.png
END:VEVENT
BEGIN:VEVENT
DTSTART;TZID=Europe/Stockholm:20230305T130000
DTEND;TZID=Europe/Stockholm:20230305T150000
DTSTAMP:20260422T131017
CREATED:20230313T084247Z
LAST-MODIFIED:20230313T084248Z
UID:2573-1678021200-1678028400@www.zebransvanner.se
SUMMARY:Caféträff
DESCRIPTION:Öppen för alla \n\n\n\nDags för caféträff.Plats: Karla CaféTid: Det är drop-in mellan 13.00 – 15.00. Adress: Karlavägen 71\, StockholmFikat är till självkostnadspris. \n\n\n\nNi hittar oss på nedervåningen. \n\n\n\nDu som kommer är där för att fika och umgås. Det är inte okej enligt caféet att bara komma dit och vara.
URL:https://www.zebransvanner.se/aktivitet/cafetraff-12/
CATEGORIES:Öppen för alla
ATTACH;FMTTYPE=image/png:https://www.zebransvanner.se/wp-content/uploads/2020/08/Caféträff.png
END:VEVENT
BEGIN:VEVENT
DTSTART;TZID=Europe/Stockholm:20230311T130000
DTEND;TZID=Europe/Stockholm:20230311T130000
DTSTAMP:20260422T131017
CREATED:20230225T110226Z
LAST-MODIFIED:20230225T110226Z
UID:2642-1678539600-1678539600@www.zebransvanner.se
SUMMARY:Tekniska museet
DESCRIPTION:MedlemsaktivitetVi besöker Tekniska museet.Anmäl dig om du vill följa med. Det finns 8 platser.Till anmälanSamling 13:00 vid kassan.
URL:https://www.zebransvanner.se/aktivitet/tekniska-museet/
CATEGORIES:Medlemsaktivitet
ATTACH;FMTTYPE=image/png:https://www.zebransvanner.se/wp-content/uploads/2023/02/museum.png
END:VEVENT
END:VCALENDAR