BEGIN:VCALENDAR
VERSION:2.0
PRODID:-//Zebrans Vänner - ECPv6.15.20//NONSGML v1.0//EN
CALSCALE:GREGORIAN
METHOD:PUBLISH
X-WR-CALNAME:Zebrans Vänner
X-ORIGINAL-URL:https://www.zebransvanner.se
X-WR-CALDESC:Händelser för Zebrans Vänner
REFRESH-INTERVAL;VALUE=DURATION:PT1H
X-Robots-Tag:noindex
X-PUBLISHED-TTL:PT1H
BEGIN:VTIMEZONE
TZID:Europe/Stockholm
BEGIN:DAYLIGHT
TZOFFSETFROM:+0100
TZOFFSETTO:+0200
TZNAME:CEST
DTSTART:20250330T010000
END:DAYLIGHT
BEGIN:STANDARD
TZOFFSETFROM:+0200
TZOFFSETTO:+0100
TZNAME:CET
DTSTART:20251026T010000
END:STANDARD
BEGIN:DAYLIGHT
TZOFFSETFROM:+0100
TZOFFSETTO:+0200
TZNAME:CEST
DTSTART:20260329T010000
END:DAYLIGHT
BEGIN:STANDARD
TZOFFSETFROM:+0200
TZOFFSETTO:+0100
TZNAME:CET
DTSTART:20261025T010000
END:STANDARD
BEGIN:DAYLIGHT
TZOFFSETFROM:+0100
TZOFFSETTO:+0200
TZNAME:CEST
DTSTART:20270328T010000
END:DAYLIGHT
BEGIN:STANDARD
TZOFFSETFROM:+0200
TZOFFSETTO:+0100
TZNAME:CET
DTSTART:20271031T010000
END:STANDARD
END:VTIMEZONE
BEGIN:VEVENT
DTSTART;TZID=Europe/Stockholm:20260503T130000
DTEND;TZID=Europe/Stockholm:20260503T130000
DTSTAMP:20260424T153047
CREATED:20260421T161231Z
LAST-MODIFIED:20260421T161232Z
UID:3459-1777813200-1777813200@www.zebransvanner.se
SUMMARY:Caféträff
DESCRIPTION:Öppen för allaDags för caféträff.Plats: Karla Café.Tid: Det är drop-in mellan 13.00 – 15.00Adress: Karlavägen 71\, Stockholm \n\n\n\nNi hittar oss på nedervåningen.
URL:https://www.zebransvanner.se/aktivitet/cafetraff-36/
CATEGORIES:Öppen för alla
ATTACH;FMTTYPE=image/png:https://www.zebransvanner.se/wp-content/uploads/2020/08/Caféträff.png
END:VEVENT
BEGIN:VEVENT
DTSTART;TZID=Europe/Stockholm:20260509T130000
DTEND;TZID=Europe/Stockholm:20260509T130000
DTSTAMP:20260424T153047
CREATED:20260424T060800Z
LAST-MODIFIED:20260421T161047Z
UID:3456-1778331600-1778331600@www.zebransvanner.se
SUMMARY:Promenad
DESCRIPTION:Öppen för allaVi tar oss ut i naturen till Judarskogens naturreservat i Bromma.Samling kl. 13.00 vid Åkeshovs tunnelbana utanför spärrarna\, sen går vi mot naturreservatet. \n\n\n\nVi kommer att stanna till för medhavd fika. Ta med dig ex. dryck och smörgås.Tänk även på att klä dig efter både väder och temperatur.
URL:https://www.zebransvanner.se/aktivitet/promenad-19/
CATEGORIES:Öppen för alla
ATTACH;FMTTYPE=image/png:https://www.zebransvanner.se/wp-content/uploads/2023/09/promenad1.png
END:VEVENT
END:VCALENDAR